BEGIN:VCALENDAR
VERSION:2.0
PRODID:-//Medway Roller Dance - ECPv6.2.6.1//NONSGML v1.0//EN
CALSCALE:GREGORIAN
METHOD:PUBLISH
X-ORIGINAL-URL:https://medwayrollerdance.co.uk
X-WR-CALDESC:Events for Medway Roller Dance
REFRESH-INTERVAL;VALUE=DURATION:PT1H
X-Robots-Tag:noindex
X-PUBLISHED-TTL:PT1H
BEGIN:VTIMEZONE
TZID:UTC
BEGIN:STANDARD
TZOFFSETFROM:+0000
TZOFFSETTO:+0000
TZNAME:UTC
DTSTART:20250101T000000
END:STANDARD
END:VTIMEZONE
BEGIN:VEVENT
DTSTART;VALUE=DATE:20251026
DTEND;VALUE=DATE:20251027
DTSTAMP:20260425T102006
CREATED:20250324T140207Z
LAST-MODIFIED:20250324T140207Z
UID:877-1761436800-1761523199@medwayrollerdance.co.uk
SUMMARY:Medway Cups
DESCRIPTION:solo dance events\, teams
URL:https://medwayrollerdance.co.uk/event/medway-cups/
LOCATION:Bay Arena\, Herne Bay
END:VEVENT
END:VCALENDAR